1.000000
0.000000
0.000000
-1.000000
582055.000
4192718.000
