1.000000
0.000000
0.000000
-1.000000
576558.000
4192661.000
