1.000000
0.000000
0.000000
-1.000000
582125.000
4185784.000
