1.000000
0.000000
0.000000
-1.000000
576623.000
4185727.000
