1.000000
0.000000
0.000000
-1.000000
571061.000
4192608.000
