1.000000
0.000000
0.000000
-1.000000
565564.000
4192558.000
