1.000000
0.000000
0.000000
-1.000000
571121.000
4185673.000
