1.000000
0.000000
0.000000
-1.000000
565620.000
4185623.000
