1.000000
0.000000
0.000000
-1.000000
560067.000
4192512.000
