1.000000
0.000000
0.000000
-1.000000
554570.000
4192470.000
