1.000000
0.000000
0.000000
-1.000000
560119.000
4185577.000
