1.000000
0.000000
0.000000
-1.000000
554617.000
4185535.000
