1.000000
0.000000
0.000000
-1.000000
549074.000
4192431.000
