1.000000
0.000000
0.000000
-1.000000
543577.000
4192396.000
