1.000000
0.000000
0.000000
-1.000000
549116.000
4185496.000
