1.000000
0.000000
0.000000
-1.000000
543615.000
4185461.000
