1.000000
0.000000
0.000000
-1.000000
538080.000
4192365.000
