1.000000
0.000000
0.000000
-1.000000
532583.000
4192337.000
