1.000000
0.000000
0.000000
-1.000000
581916.000
4206588.000
