1.000000
0.000000
0.000000
-1.000000
576428.000
4206531.000
