1.000000
0.000000
0.000000
-1.000000
581985.000
4199653.000
