1.000000
0.000000
0.000000
-1.000000
576493.000
4199596.000
