1.000000
0.000000
0.000000
-1.000000
570940.000
4206477.000
