1.000000
0.000000
0.000000
-1.000000
565453.000
4206427.000
