1.000000
0.000000
0.000000
-1.000000
571001.000
4199543.000
