1.000000
0.000000
0.000000
-1.000000
565508.000
4199493.000
