1.000000
0.000000
0.000000
-1.000000
559965.000
4206381.000
