1.000000
0.000000
0.000000
-1.000000
554478.000
4206339.000
