1.000000
0.000000
0.000000
-1.000000
560016.000
4199447.000
