1.000000
0.000000
0.000000
-1.000000
554524.000
4199404.000
