1.000000
0.000000
0.000000
-1.000000
548990.000
4206300.000
