1.000000
0.000000
0.000000
-1.000000
543502.000
4206265.000
