1.000000
0.000000
0.000000
-1.000000
549060.000
4199366.000
