1.000000
0.000000
0.000000
-1.000000
543540.000
4199330.000
