1.000000
0.000000
0.000000
-1.000000
538015.000
4206234.000
