1.000000
0.000000
0.000000
-1.000000
532527.000
4206206.000
