1.000000
0.000000
0.000000
-1.000000
538047.000
4199299.000
