1.000000
0.000000
0.000000
-1.000000
532555.000
4199272.000
