1.000000
0.000000
0.000000
-1.000000
527039.000
4206182.000
