1.000000
0.000000
0.000000
-1.000000
521552.000
4206162.000
