1.000000
0.000000
0.000000
-1.000000
527063.000
4199248.000
