1.000000
0.000000
0.000000
-1.000000
521570.000
4199228.000
