1.000000
0.000000
0.000000
-1.000000
516064.000
4206146.000
