1.000000
0.000000
0.000000
-1.000000
510577.000
4206136.000
