1.000000
0.000000
0.000000
-1.000000
516079.000
4199210.000
