1.000000
0.000000
0.000000
-1.000000
669428.500
4221878.500
