1.000000
0.000000
0.000000
-1.000000
663949.500
4221762.500
