1.000000
0.000000
0.000000
-1.000000
669573.500
4214942.500
