1.000000
0.000000
0.000000
-1.000000
658471.500
4221649.500
