1.000000
0.000000
0.000000
-1.000000
652992.500
4221540.500
